BEGIN:VCALENDAR
VERSION:2.0
PRODID:-//hacksw/handcal//NONSGML v1.0//EN
BEGIN:VEVENT
SUMMARY:Meeting de la Plage Pontivy
UID:db5fca36-0e05-4dec-9cff-36bf81eeaa7b
DTSTART:20260502T220000Z
DTEND:20260503T220000Z
LOCATION:Localisation Piscine la plage  Pontivy
CATEGORIES:Sportif
STATUS:
DESCRIPTION:<p>Info meeting : <a
 href="https://espoirnautiquepontivy.com/en-savoir-plus/meeting-enp-2026-177241"
 target="_blank" rel="noreferrer noopener">ICI</a></p>
 
 <p>RDV 7h30
 sur le grand parking des Aquatides.</p>
 
 <p><u>Prevoir
 :</u></p>
 
 <p>- 2euros pour le covoit</p>
 
 <p>- Pique-nique du
 midi</p>
 
 <p>- Tee-shirt et bonnet du club obligatoire</p>
 
 <p>-
 Chaise pliante</p>
 
 <p>- Vetements chauds
 <strong>(Attention, competition en exterieur
 !)</strong></p>
 
 <p>Live FFN: <a
 href="https://www.liveffn.com/cgi-bin/index.php?competition=93533"
 target="_blank" rel="noreferrer noopener">ICI</a></p>
URL;VALUE=URI:https://www.clubnautiquedupaysdeloudeac.com/evenements/2026/05/03/meeting-de-la-plage-pontivy-2379494
END:VEVENT
END:VCALENDAR
